BEGIN:VCALENDAR
VERSION:2.0
PRODID:-//Opera League of Los Angeles - ECPv6.15.20//NONSGML v1.0//EN
CALSCALE:GREGORIAN
METHOD:PUBLISH
X-WR-CALNAME:Opera League of Los Angeles
X-ORIGINAL-URL:https://operaleague.org
X-WR-CALDESC:Events for Opera League of Los Angeles
REFRESH-INTERVAL;VALUE=DURATION:PT1H
X-Robots-Tag:noindex
X-PUBLISHED-TTL:PT1H
BEGIN:VTIMEZONE
TZID:America/Los_Angeles
BEGIN:DAYLIGHT
TZOFFSETFROM:-0800
TZOFFSETTO:-0700
TZNAME:PDT
DTSTART:20250309T100000
END:DAYLIGHT
BEGIN:STANDARD
TZOFFSETFROM:-0700
TZOFFSETTO:-0800
TZNAME:PST
DTSTART:20251102T090000
END:STANDARD
BEGIN:DAYLIGHT
TZOFFSETFROM:-0800
TZOFFSETTO:-0700
TZNAME:PDT
DTSTART:20260308T100000
END:DAYLIGHT
BEGIN:STANDARD
TZOFFSETFROM:-0700
TZOFFSETTO:-0800
TZNAME:PST
DTSTART:20261101T090000
END:STANDARD
BEGIN:DAYLIGHT
TZOFFSETFROM:-0800
TZOFFSETTO:-0700
TZNAME:PDT
DTSTART:20270314T100000
END:DAYLIGHT
BEGIN:STANDARD
TZOFFSETFROM:-0700
TZOFFSETTO:-0800
TZNAME:PST
DTSTART:20271107T090000
END:STANDARD
END:VTIMEZONE
BEGIN:VEVENT
DTSTART;TZID=America/Los_Angeles:20260420T120000
DTEND;TZID=America/Los_Angeles:20260420T140000
DTSTAMP:20260420T034333
CREATED:20251227T155740Z
LAST-MODIFIED:20260406T060500Z
UID:10000050-1776686400-1776693600@operaleague.org
SUMMARY:ZOOM Gathering: Shakespeare and Falstaff
DESCRIPTION:ZOOM GATHERING \nSAT APRIL 20\, 7PM \nSHAKESPEARE AND FALSTAFF \nSPEAKER MARY JOHNSTON \nJOIN GATHERING HERE 5 MINUTES BEFORE START TIME \n  \nWe’ll review Shakespeare’s Merry Wives of Windsor and discuss its adaptation into \n Falstaff\, while referencing other Shakespearean plays to better understand their transformations from play to opera. \n 
URL:https://operaleague.org/event/west-san-fernando-valley-gathering-shakespeare-and-falstaff/
LOCATION:
ATTACH;FMTTYPE=image/png:https://operaleague.org/wp-content/uploads/2025/12/LAO-Falstaff.png
END:VEVENT
BEGIN:VEVENT
DTSTART;TZID=America/Los_Angeles:20260420T170000
DTEND;TZID=America/Los_Angeles:20260420T190000
DTSTAMP:20260420T034333
CREATED:20251224T044107Z
LAST-MODIFIED:20251224T044107Z
UID:10000033-1776704400-1776711600@operaleague.org
SUMMARY:Opera League Board Meeting
DESCRIPTION:ZOOM available on request
URL:https://operaleague.org/event/opera-league-board-meeting/
LOCATION:Dorothy Chandler Pavilion Asa Call Conf Room 4th Floor\, 135 N Grand Ave\, Los Angeles\, CA\, 90012\, United States
END:VEVENT
END:VCALENDAR