BEGIN:VCALENDAR
VERSION:2.0
PRODID:-//Opera League of Los Angeles - ECPv6.15.20//NONSGML v1.0//EN
CALSCALE:GREGORIAN
METHOD:PUBLISH
X-WR-CALNAME:Opera League of Los Angeles
X-ORIGINAL-URL:https://operaleague.org
X-WR-CALDESC:Events for Opera League of Los Angeles
REFRESH-INTERVAL;VALUE=DURATION:PT1H
X-Robots-Tag:noindex
X-PUBLISHED-TTL:PT1H
BEGIN:VTIMEZONE
TZID:America/Los_Angeles
BEGIN:DAYLIGHT
TZOFFSETFROM:-0800
TZOFFSETTO:-0700
TZNAME:PDT
DTSTART:20250309T100000
END:DAYLIGHT
BEGIN:STANDARD
TZOFFSETFROM:-0700
TZOFFSETTO:-0800
TZNAME:PST
DTSTART:20251102T090000
END:STANDARD
BEGIN:DAYLIGHT
TZOFFSETFROM:-0800
TZOFFSETTO:-0700
TZNAME:PDT
DTSTART:20260308T100000
END:DAYLIGHT
BEGIN:STANDARD
TZOFFSETFROM:-0700
TZOFFSETTO:-0800
TZNAME:PST
DTSTART:20261101T090000
END:STANDARD
BEGIN:DAYLIGHT
TZOFFSETFROM:-0800
TZOFFSETTO:-0700
TZNAME:PDT
DTSTART:20270314T100000
END:DAYLIGHT
BEGIN:STANDARD
TZOFFSETFROM:-0700
TZOFFSETTO:-0800
TZNAME:PST
DTSTART:20271107T090000
END:STANDARD
END:VTIMEZONE
BEGIN:VEVENT
DTSTART;TZID=America/Los_Angeles:20260419T113000
DTEND;TZID=America/Los_Angeles:20260419T180000
DTSTAMP:20260421T020324
CREATED:20260210T184110Z
LAST-MODIFIED:20260211T032740Z
UID:10000076-1776598200-1776621600@operaleague.org
SUMMARY:Volunteer Event: Community Opera Ensemble Rehearsal
DESCRIPTION:Volunteer Event: Community Opera Ensemble Rehearsal \nSunday April 19 @ 11:30 am – 6:00 pm \nAn opportunity to be involved with LA Opera’s presentation in The Cathedral of Our Lady of the Angels by assisting the performers and staff \nRehearsal at Dorothy Chandler Pavilion \nAssisting with wayfinding\, participant check in\, supervisor for minor’s costume fittings\, other support as needed \nIf you have an Opera League Signupgenius.com account\, you can login there to sign for this event. \nFor information contact volunteer coordinator Larry Verdugo larryverdugo@icloud.com
URL:https://operaleague.org/event/volunteer-event-community-opera-ensemble-rehearsal-3/
LOCATION:Dorothy Chandler Pavilion\, 135 N Grand Ave\, Los Angeles\, CA\, 90012\, United States
END:VEVENT
BEGIN:VEVENT
DTSTART;TZID=America/Los_Angeles:20260419T150000
DTEND;TZID=America/Los_Angeles:20260419T170000
DTSTAMP:20260421T020324
CREATED:20260206T004541Z
LAST-MODIFIED:20260219T014543Z
UID:10000068-1776610800-1776618000@operaleague.org
SUMMARY:Tenor Anthony León Returns for a Special Recital & Master Class
DESCRIPTION:The Opera League of Los Angeles joins our friends at the Opera Buffs to present former LA Opera Young Artist and League favorite\, tenor Anthony León\, in a combination event of recital and a special Master Class.  Anthony has won both the Metropolitan Opera Laffont Competition and two top prizes at the 2022 Operalia Competition. \nDive into a night of captivating music with his recital followed by an interactive masterclass. Whether you’re a budding musician or just a fan\, this is your chance to experience Anthony’s artistry up close and personal. Don’t miss out on this unique opportunity to learn and be inspired! \nSpecial Opera League members price of only $20 per ticket can be purchased here!   Order now as this one will sell out.
URL:https://operaleague.org/event/tenor-anthony-leon-returns-for-a-special-recital-master-class/
LOCATION:Pasadena Conservatory of Music\, 100 N Hill Ave\, Pasadena\, CA\, Pasadena\, CA\, 91106\, United States
CATEGORIES:Master Class,Recital
ATTACH;FMTTYPE=image/jpeg:https://operaleague.org/wp-content/uploads/2026/02/Anthony-Leon-2022-copy.jpg
END:VEVENT
END:VCALENDAR